BEGIN:VCALENDAR
VERSION:2.0
PRODID:-//Tukios.com/
BEGIN:VEVENT
UID:9c8fffb5-f43f-49c9-844c-f8b96bce5d78@www.roseandgraham.com
DTSTAMP:20260424T185931Z
DTSTART:20260426T170000Z
DTEND:20260426T184500Z
SUMMARY:Visitation
DESCRIPTION:
URL:https://www.roseandgraham.com/obituaries/pam-holland
LOCATION: 301 W. Main St.  Benson NC 27504
GEO:35.3827808;-78.5511346
END:VEVENT
END:VCALENDAR