BEGIN:VCALENDAR
VERSION:2.0
PRODID:-//Tukios.com/
BEGIN:VEVENT
UID:8e4f30e5-aabe-4a5e-8382-62d03746a81c@www.roseandgraham.com
DTSTAMP:20260420T214036Z
DTSTART:20260430T180000Z
DTEND:20260430T190000Z
SUMMARY:Memorial Service
DESCRIPTION:
URL:https://www.roseandgraham.com/obituaries/jeffrey-crawford-sr
LOCATION: 301 W. Main St.  Benson NC 27504
GEO:35.3827808;-78.5511346
END:VEVENT
END:VCALENDAR