BEGIN:VCALENDAR
VERSION:2.0
PRODID:-//Tukios.com/
BEGIN:VEVENT
UID:8e0d4808-ccae-49d7-a9b6-71295cbd53e1@www.roseandgraham.com
DTSTAMP:20260420T215010Z
DTSTART:20260430T170000Z
DTEND:20260430T174500Z
SUMMARY:Visitation
DESCRIPTION:
URL:https://www.roseandgraham.com/obituaries/jeffrey-crawford-sr
LOCATION: 301 W. Main St.  Benson NC 27504
GEO:35.3827808;-78.5511346
END:VEVENT
END:VCALENDAR