BEGIN:VCALENDAR
VERSION:2.0
PRODID:-//Tukios.com/
BEGIN:VEVENT
UID:ae85399e-bd9b-4745-9186-69e0bf1d7822@www.roseandgraham.com
DTSTAMP:20260424T222556Z
DTSTART:20260427T150000Z
DTEND:20260427T160000Z
SUMMARY:Funeral Service
DESCRIPTION:
URL:https://www.roseandgraham.com/obituaries/james-roland-wood
LOCATION:Trinity Baptist Church 7538 NC-50   Benson NC 27504
GEO:35.31891;-78.4530424
END:VEVENT
END:VCALENDAR