BEGIN:VCALENDAR
VERSION:2.0
PRODID:-//Tukios.com/
BEGIN:VEVENT
UID:ec9bb34e-df37-4481-8458-821140927469@www.roseandgraham.com
DTSTAMP:20260424T222443Z
DTSTART:20260426T210000Z
DTEND:20260427T000000Z
SUMMARY:Visitation
DESCRIPTION:
URL:https://www.roseandgraham.com/obituaries/james-roland-wood
LOCATION:J. Roland Wood Farms 2500 Beasley Road  Benson NC 27504
GEO:35.3230147;-78.4963105
END:VEVENT
END:VCALENDAR