BEGIN:VCALENDAR
VERSION:2.0
PRODID:-//Tukios.com/
BEGIN:VEVENT
UID:dcb0301f-b4f1-4d44-9886-655ae74022bf@www.roseandgraham.com
DTSTAMP:20260420T011238Z
DTSTART:20260423
SUMMARY:Visitation To Follow Memorial Service
DESCRIPTION:
URL:https://www.roseandgraham.com/obituaries/cheryle-sherry-tryner
LOCATION: 301 W. Main St.  Benson NC 27504
GEO:35.3827808;-78.5511346
END:VEVENT
END:VCALENDAR