BEGIN:VCALENDAR
VERSION:2.0
PRODID:-//Tukios.com/
BEGIN:VEVENT
UID:35ccd38e-b423-46b2-9a40-049ea9b9cec4@www.roseandgraham.com
DTSTAMP:20260420T011418Z
DTSTART:20260423T150000Z
DTEND:20260423T160000Z
SUMMARY:Memorial Service
DESCRIPTION:
URL:https://www.roseandgraham.com/obituaries/cheryle-sherry-tryner
LOCATION: 301 W. Main St.  Benson NC 27504
GEO:35.3827808;-78.5511346
END:VEVENT
END:VCALENDAR